BEGIN:VCALENDAR
VERSION:2.0
PRODID:-//wp-events-plugin.com//7.2.3.1//EN
TZID:Europe/Helsinki
X-WR-TIMEZONE:Europe/Helsinki
BEGIN:VEVENT
UID:49@taivaannaula.org
DTSTART;TZID=Europe/Helsinki:20180407T140000
DTEND;TZID=Europe/Helsinki:20180407T160000
DTSTAMP:20180306T140846Z
URL:https://www.taivaannaula.org/tapahtumakalenteri/metsaluonnon-kohtaamis
 en-mysteeri/
SUMMARY:Metsäluonnon kohtaamisen mysteeri
DESCRIPTION:Rauman taidemuseolla pääsee kuulemaan lauantaina 7.4. klo 14 
 alkaen kansanomaisista pyhistä paikoista.\n\nTaivaannaulan Hiisi-hankkeen
  tutkija John Björkman kertoo tuolloin kansanomaisista pyhistä paikoista
  ja kanssakäynnistä metsän kanssa lounaissuomalaisessa kansanuskossa. T
 ilaisuudessa on myös Heikki Willamon kuvaesitys aiheesta eläimen kohtaam
 inen ja metsäluonto kohtaamisen paikkana.\n\nLuentotilaisuus on kaikille 
 avoin ja sisäänpääsy on museon sisäänpääsymaksulla. Aikuiset 6 €
 \, opiskelijat ja eläkeläiset 3 €.
ATTACH;FMTTYPE=image/jpeg:https://www.taivaannaula.org/Testi2015/wp-conten
 t/uploads/2017/04/john-luostarimaki.jpg
CATEGORIES:Luento,Yleisötapahtumat
END:VEVENT
BEGIN:VTIMEZONE
TZID:Europe/Helsinki
X-LIC-LOCATION:Europe/Helsinki
BEGIN:DAYLIGHT
DTSTART:20180325T040000
TZOFFSETFROM:+0200
TZOFFSETTO:+0300
TZNAME:EEST
END:DAYLIGHT
END:VTIMEZONE
END:VCALENDAR