BEGIN:VCALENDAR
VERSION:2.0
PRODID:-//wp-events-plugin.com//7.2.3.1//EN
TZID:Europe/Helsinki
X-WR-TIMEZONE:Europe/Helsinki
BEGIN:VEVENT
UID:46@taivaannaula.org
DTSTART;TZID=Europe/Helsinki:20180328T170000
DTEND;TZID=Europe/Helsinki:20180328T190000
DTSTAMP:20180221T152443Z
URL:https://www.taivaannaula.org/tapahtumakalenteri/pihapiiri-ja-siella-as
 uva-vaki/
SUMMARY:Pihapiiri ja siellä asuva väki
DESCRIPTION:Aika: Hiisienpäivänä keskiviikkona 28.3. klo 17-19\nPaikka: 
 Rakennuskulttuurikeskus Piiru\, Uittajankatu 10\, Tampere\, Pispala.\nEnna
 kkoilmoittautuminen: info@piiru.fi.\n\nTaivaannaulan ja Rakennuskulttuurik
 eskus Piirun yhteistilaisuus. Evästäjinä Mikko Tappura\, Taivaannaulan 
 Pirkanmaan paikallisvastaava sekä Heidi Huhtamella\, Pirkanmaan rakennusk
 ulttuuriyhdistyksen hallituksen pj. Vapaa pääsy\, korkeintaan 30 henkeä
 \, pikkurahalla kahvia/teetä ja nisua.\n\nTalossa asui ukko ja akka sekä
  liuta lapsia\, mahdollisesti muutakin sukua. Mutta asui siellä muitakin 
 mm. vainajat\, henget\, tontut ja haltijat. Tule kuulemaan vanhan kansan k
 äsityksiä maailmasta ja väestä sekä kuinka loitsuilla\, uhrauksilla j
 a hyvillä käytöstavoilla mahdollistettiin sopuisa rinnakkaiselo. Opit m
 m miksi ihmeessä saunaan mentäessä olisi hyvä sanoa: "Terve löyly\, t
 erve lämmin".\n\nTapahtuma Facebookissa
ATTACH;FMTTYPE=image/jpeg:https://www.taivaannaula.org/Testi2015/wp-conten
 t/uploads/2018/02/pihapiiri.jpg
CATEGORIES:Luento,Paikallistapahtuma,Yleisötapahtumat
END:VEVENT
BEGIN:VTIMEZONE
TZID:Europe/Helsinki
X-LIC-LOCATION:Europe/Helsinki
BEGIN:DAYLIGHT
DTSTART:20180325T040000
TZOFFSETFROM:+0200
TZOFFSETTO:+0300
TZNAME:EEST
END:DAYLIGHT
END:VTIMEZONE
END:VCALENDAR