BEGIN:VCALENDAR
VERSION:2.0
PRODID:-//wp-events-plugin.com//7.2.3.1//EN
TZID:Europe/Helsinki
X-WR-TIMEZONE:Europe/Helsinki
BEGIN:VEVENT
UID:47@taivaannaula.org
DTSTART;TZID=Europe/Helsinki:20180421T120000
DTEND;TZID=Europe/Helsinki:20180421T160000
DTSTAMP:20180327T111814Z
URL:https://www.taivaannaula.org/tapahtumakalenteri/pirtanauhakurssi/
SUMMARY:Pirtanauhakurssi
DESCRIPTION:Aika: lauantaina 21.4. klo 12-16\nPaikka: Rakennuskulttuurikesk
 us Piiru\, Uittajankatu 10\, Tampere\, Pispala.\nEnnakkoilmoittautuminen: 
 info@piiru.fi.\nKouluttajana Mari Solja.\n\nTaivaannaulan ja Rakennuskultt
 uurikeskus Piirun yhteiskurssi. Kurssin hinta Taivaannaulan jäsenille 25 
 € (muille 30 €) + materiaalimaksu langat 5 €\, välineiden lainaus s
 isältyy hintaan. Mainitse jäsenyydestäsi ilmoittautumisen yhteydessä. 
 Osallistujamäärä 20 henkeä.\n\nKurssilla tutustumme lyhyesti pirtanauh
 ojen malleihin ja tyyppeihin ja periaatteeseen\, joilla nauhoja voi suunni
 tella. Lisäksi puhumme soveltuvista välineistä ja langoista.\n\nKurssil
 la opetellaan seitsemällä kuviolangalla poimitun pirtanauhan luominen. E
 li kuinka lankojen määrä lasketaan\, kuinka ne luodaan ja kuinka langat
  pujotellaan pirtaan. Suunnittelemme itse kuvion seitsemälle kuviolangall
 e ja opettelemme kuinka kuviota kudotaan.\n\nKokonaista pirtanauhaa ei ehd
 i kurssin aikana kutomaan\, mutta ainakin kirjanmerkin verran. Ja mikäli 
 haluat ostaa välineet omaksi\, niin nauhan voi jatkaa kotona loppuun.\n\n
 Tapahtuma Facebookissa
ATTACH;FMTTYPE=image/jpeg:https://www.taivaannaula.org/Testi2015/wp-conten
 t/uploads/2018/02/pirtanauha.jpg
CATEGORIES:Kurssit,Luento,Yleisötapahtumat
END:VEVENT
BEGIN:VTIMEZONE
TZID:Europe/Helsinki
X-LIC-LOCATION:Europe/Helsinki
BEGIN:DAYLIGHT
DTSTART:20180325T040000
TZOFFSETFROM:+0200
TZOFFSETTO:+0300
TZNAME:EEST
END:DAYLIGHT
END:VTIMEZONE
END:VCALENDAR