BEGIN:VCALENDAR
VERSION:2.0
PRODID:-//wp-events-plugin.com//7.2.3.1//EN
TZID:Europe/Helsinki
X-WR-TIMEZONE:Europe/Helsinki
BEGIN:VEVENT
UID:140@taivaannaula.org
DTSTART;TZID=Europe/Helsinki:20260426T140000
DTEND;TZID=Europe/Helsinki:20260426T140000
DTSTAMP:20260419T141441Z
URL:https://www.taivaannaula.org/tapahtumakalenteri/pyhien-luonnonpaikkoje
 n-retki-lietoon-26-4/
SUMMARY:Pyhien luonnonpaikkojen retki Lietoon 26.4.
DESCRIPTION:Taivaannaula ry:n pyhien luonnonpaikkojen kartoitushanke järje
 stää sunnuntaina 26.4. Pyhän luonnon liiton jäsenjärjestöille pyhien
  luonnonpaikkojen retken Lietoon. Retkellä vierailemme Liedon Hihnan seud
 ulla halauskivi Maisulla sekä Kropan krotin uhrirotkolla.\n\nHalauskivi M
 aisu on ollut Hämeen härkätien matkaajien käyttämä rituaalinen matka
 kivi. Kropan krotti taas on erityisen voimallinen paikka Paimiojoen rannal
 la johon on tehty metsästysuhreja ja jossa on myös nähty metsänhaltijo
 ita.\n\nRetkellä liikutaan lyhyitä matkoja haastavassa maastossa. Etenki
 n Kropan krotissa maasto on vaikeakulkuista. Retki ei siis sovi huonojalka
 isille tai liikuntarajoitteisille. Pue maastossa liikkumiseen sopivat vaat
 teet jalkineet ja mahdolliset omat eväät.\n\nRetkeen osallistujilta edel
 lytetään pyhälle paikalle soveltuvaa kunnioittavaa käytöstä. Paikoil
 le on mahdollista jättää uhrilahjoja. Maisulle uhrataan halaamalla kive
 ä tai kumartamalla sille. Kropan krottiin soveltuvat ruoka- tai juomauhri
 t\, etenkin alkoholipitoiset juomat. Myös esim. runolaulujen tai loitsuje
 n esittäminen ovat sopivia tapoja kunnioittaa paikkaa. Kropan krotissa pi
 detään myös eväiden nauttimiseen sopiva tauko.\n\nRetken oppaana toimi
 i Suomen pyhien luonnonpaikkojen asiantuntija\, pohjoismaisen folkloristii
 kan tohtori John Björkman. Retkelle lähdetään yhteisellä bussikuljetu
 ksella Turusta. Retkestä peritään 15 euron suuruinen maksu joka makseta
 an Taivaannaula ry:n tilille FI21 5600 0520 3551 76 viimeistään 19.4.202
 6.\nTaivaannaulan jäsenille retki on maksuton. Lähtö klo 14\, paluu n. 
 klo 17.\n\nPaikkoja rajoitetusti. Ilmoittautumiset sähköpostitse: hiisi@
 taivaannaula.org
END:VEVENT
BEGIN:VTIMEZONE
TZID:Europe/Helsinki
X-LIC-LOCATION:Europe/Helsinki
BEGIN:DAYLIGHT
DTSTART:20260329T040000
TZOFFSETFROM:+0200
TZOFFSETTO:+0300
TZNAME:EEST
END:DAYLIGHT
END:VTIMEZONE
END:VCALENDAR