BEGIN:VCALENDAR
VERSION:2.0
PRODID:-//wp-events-plugin.com//7.2.3.1//EN
TZID:Europe/Helsinki
X-WR-TIMEZONE:Europe/Helsinki
BEGIN:VEVENT
UID:10@taivaannaula.org
DTSTART;TZID=Europe/Helsinki:20160328T140000
DTEND;TZID=Europe/Helsinki:20160328T170000
DTSTAMP:20160305T153449Z
URL:https://www.taivaannaula.org/tapahtumakalenteri/retki-liedon-pitajanhi
 iteen/
SUMMARY:Kävelyretki Liedon pitäjänhiiteen
DESCRIPTION:Varsinais-Suomen hiisienpäivän retki suuntautuu tänä vuonna
  Liedon hiiden alueelle. Liedon muinainen pitäjänhiisi on erityisen miel
 enkiintoinen ja salaperäinen.
ATTACH;FMTTYPE=image/jpeg:https://www.taivaannaula.org/Testi2015/wp-conten
 t/uploads/2016/02/lieto-retki.jpg
CATEGORIES:Paikallistapahtuma
END:VEVENT
BEGIN:VTIMEZONE
TZID:Europe/Helsinki
X-LIC-LOCATION:Europe/Helsinki
BEGIN:DAYLIGHT
DTSTART:20160327T040000
TZOFFSETFROM:+0200
TZOFFSETTO:+0300
TZNAME:EEST
END:DAYLIGHT
END:VTIMEZONE
END:VCALENDAR