BEGIN:VCALENDAR
VERSION:2.0
PRODID:-//wp-events-plugin.com//7.2.3.1//EN
TZID:Europe/Helsinki
X-WR-TIMEZONE:Europe/Helsinki
BEGIN:VEVENT
UID:11@taivaannaula.org
DTSTART;TZID=Europe/Helsinki:20160328T130000
DTEND;TZID=Europe/Helsinki:20160328T153000
DTSTAMP:20160305T153435Z
URL:https://www.taivaannaula.org/tapahtumakalenteri/retki-pirkkalan-hiiden
 maelle/
SUMMARY:Retki Pirkkalan Hiidenmäelle
DESCRIPTION:Pirkanmaalla hiisienpäivänä järjestettävä retki suuntautu
 u Pirkkalan Hiidenmäelle\, jossa sijaitsee Neulalähteeksi\, Hiidenkaivok
 si tai Martinkaivoksi kutsuttu uhrilähde. 
ATTACH;FMTTYPE=image/jpeg:https://www.taivaannaula.org/Testi2015/wp-conten
 t/uploads/2016/02/neulakaivo.jpg
CATEGORIES:Paikallistapahtuma
END:VEVENT
BEGIN:VTIMEZONE
TZID:Europe/Helsinki
X-LIC-LOCATION:Europe/Helsinki
BEGIN:DAYLIGHT
DTSTART:20160327T040000
TZOFFSETFROM:+0200
TZOFFSETTO:+0300
TZNAME:EEST
END:DAYLIGHT
END:VTIMEZONE
END:VCALENDAR