BEGIN:VCALENDAR
VERSION:2.0
PRODID:-//wp-events-plugin.com//7.2.3.1//EN
TZID:Europe/Helsinki
X-WR-TIMEZONE:Europe/Helsinki
BEGIN:VEVENT
UID:28@taivaannaula.org
DTSTART;TZID=Europe/Helsinki:20170923T170000
DTEND;TZID=Europe/Helsinki:20170923T213000
DTSTAMP:20170922T122416Z
URL:https://www.taivaannaula.org/tapahtumakalenteri/taivaannaulan-10-vuoti
 sjuhla-tampereella/
SUMMARY:Taivaannaulan 10-vuotisjuhla Tampereella
DESCRIPTION:Tervetuloa juhlimaan 10-vuotiasta Taivaannaulaa! \n\nTampereen 
 Kulttuuritalo Telakka täyttyy syyskuussa kansanuskon ja kansanperinteen t
 eemoista ja luovasta karjalaisvaikutteisesta musiikista ja performanssista
 . Kymmenen vuoden taivaltaan juhlivan Taivaannaula ry:n juhlassa kuullaan 
 puheenvuoroja kiinnostavilta puhujilta sekä musiikkia kansanmusiikki-duo 
 Puhdilta ja folktronica-yhtye Suistamon Sähköltä.\n\nTaivaannaula on vu
 onna 2007 perustettu järjestö\, jonka tavoitteena on pitkäikäisen suom
 alaisen perinnekulttuurin ja henkisen perinteen säilyttäminen ja elävä
 nä pitäminen\, mukaan lukien perimätiedon tuntemien pyhien luonnonpaikk
 ojen suojeleminen. \n\nJärjestön toiminta kattaa maan- ja metsänvaraise
 en elämäntapaan kytkeytyvät perinteet oli kyse sitten kansanuskon maail
 mankuvasta\, sukukansoista\, ajanlaskennasta tai esimerkiksi viljelyn\, er
 änkäynnin\, laulannan\, leipomisen tai rakentamisen tapakulttuurista ja 
 henkisistä merkityksistä.\n \nTaivaannaulan 10-vuotisjuhlassa kuullaan t
 ietokirjailija Juha Kuisman mietteitä suomen kielessä elävistä vanhois
 ta uskomuksellisista idiomeista. Kalevalaisten Naisten Liiton puheenjohtaj
 a Ildikó Lehtinen vuorostaan kertoo sukukansamme marilaisten kulttuurista
 . Lisäksi kuulemme terveiset Taivaannaulan virolaiselta sisarjärjestölt
 ä Maavalla Kodalta.\n\nPukukoodi vapaa\, mutta folkahtava. Kansanpukujen 
 loistoa katselemme mielellämme!\n \nOhjelma\n\nKlo 17\nKansanlaulua\nTaiv
 aannaulan puheenjohtajan Mikko Soljan tervehdys\nViron maauskoisten Maaval
 la Kodan puheenvuoro\n\nKlo 18\nKantelemusiikkia\nJuha Kuisma: Suomen kans
 an vanhat uskomukselliset idiomit\nKansanmusiikki-duo Puhti\n\nKlo 19\nIld
 ikó Lehtinen: Marilaisuus puntarissa\n\nKlo 20\nKansanelektroyhtye Suista
 mon Sähkö\n \nLiput tapahtumaan 10 €. Lippu ostetaan Telakalta. Tapaht
 uma on maksuton ennakkoon ilmoittautuneille yhdistyksen jäsenille.\n\nTap
 ahtuma Facebookissa\n\nTervetuloa juhlimaan 10-vuotiasta Taivaannaulaa ja 
 itämerensuomalaista juurevuutta!\n\n
ATTACH;FMTTYPE=image/jpeg:https://www.taivaannaula.org/Testi2015/wp-conten
 t/uploads/2017/03/taivaannaula10.jpg
CATEGORIES:Yleisötapahtumat
END:VEVENT
BEGIN:VTIMEZONE
TZID:Europe/Helsinki
X-LIC-LOCATION:Europe/Helsinki
BEGIN:DAYLIGHT
DTSTART:20170326T040000
TZOFFSETFROM:+0200
TZOFFSETTO:+0300
TZNAME:EEST
END:DAYLIGHT
END:VTIMEZONE
END:VCALENDAR