BEGIN:VCALENDAR
VERSION:2.0
PRODID:-//wp-events-plugin.com//7.2.3.1//EN
TZID:Europe/Helsinki
X-WR-TIMEZONE:Europe/Helsinki
BEGIN:VEVENT
UID:16@taivaannaula.org
DTSTART;TZID=Europe/Helsinki;VALUE=DATE:20161104
DTEND;TZID=Europe/Helsinki;VALUE=DATE:20161107
DTSTAMP:20160901T080113Z
URL:https://www.taivaannaula.org/tapahtumakalenteri/taivaannaulan-kekri-20
 16-varsinais-suomi-pirkanmaa/
SUMMARY:Kekri 2016: Varsinais-Suomi ja Pirkanmaa
DESCRIPTION:Kekriä juhlitaan nyt ensimmäistä kertaa useammalla paikkakun
 nalla! Kokoonnumme juhlistamaan satovuoden päätöstä ja suvun vainajia 
 Varsinais-Suomessa ja Pirkanmaalla.
ATTACH;FMTTYPE=image/jpeg:https://www.taivaannaula.org/Testi2015/wp-conten
 t/uploads/2016/08/Kekrivalkea.jpg
CATEGORIES:Vuotuisjuhlat
END:VEVENT
BEGIN:VTIMEZONE
TZID:Europe/Helsinki
X-LIC-LOCATION:Europe/Helsinki
BEGIN:STANDARD
DTSTART:20161030T030000
TZOFFSETFROM:+0300
TZOFFSETTO:+0200
TZNAME:EET
END:STANDARD
END:VTIMEZONE
END:VCALENDAR