BEGIN:VCALENDAR
VERSION:2.0
PRODID:-//wp-events-plugin.com//7.2.3.1//EN
TZID:Europe/Helsinki
X-WR-TIMEZONE:Europe/Helsinki
BEGIN:VEVENT
UID:143@taivaannaula.org
DTSTART;TZID=Europe/Helsinki:20260723T000000
DTEND;TZID=Europe/Helsinki:20260726T000000
DTSTAMP:20260419T142732Z
URL:https://www.taivaannaula.org/tapahtumakalenteri/taivaannaulan-kesaleir
 i-2026/
SUMMARY:Taivaannaulan kesäleiri 2026
DESCRIPTION:Kesäleiri 2026!\n\nTervetuloa viettämään Taivaannaulan ja M
 aavalla kodan yhteistä kesäleiriä! Tänä vuonna järjestämme kesälei
 rin taas kerran Suomessa\, tällä kertaa Leustun tilalla Jämsässä.\n\n
 Leiri järjestetään 23.–26. heinäkuuta. Ohjelmassa on luvassa työpaj
 oja\, talkoilua Jämsän saunakylässä\, innoittavia keskusteluja ja riem
 ukasta kesän nauttimista.\n\nMajoitus on omalla telttamajoituksella. Sis
 ätilapaikkoja on rajoitetusti ja ne on varattu ensisijaisesti pienten las
 ten kanssa tuleville ja niille\, jotka tarvitsevat tiloja terveydellisist
 ä syistä.\n\nLeiri on kaikille avoin. Osallistumismaksu on Taivaannaulan
  jäsenille 30 €\, muille 50 €. Aittamajoituksella hinta on jäsenille
  75 €\, muille 100 €. Hinta sisältää lounaat ja päivälliset koko 
 leirin ajaksi. Aamiaiset ja iltapalat järjestetään nyyttikestiperiaatte
 ella\, joten lisää ilmoittautumiseesi myös maininta tuomisistasi.\n\nSi
 tovien ilmoittautumisten määräpäivä on 31. toukokuuta. Ilmoittautunei
 lle lähetetään maksuohje\, tarkempi ohjelma ja ohjeistus. Mahdollisia k
 ysymyksiä kesäleiriin liittyen voi lähettää osoitteeseen hallitus@tai
 vaannaula.org.\n\nIlmoittaudu tällä lomakkeella ja tule nauttimaan suoma
 lais-virolaisesta kesäleiristä!\n\nIlmoittautumislomake: https://docs.g
 oogle.com/…/1FAIpQLSfhEy87b8vUIDfkK…/viewform…\n\nKeväisin terveisi
 n\,\nTaivaannaulan hallitus
LOCATION:Leustun tila\, Leustuntie 400\, Korpilahti\, Suomi
X-APPLE-STRUCTURED-LOCATION;VALUE=URI;X-ADDRESS=Leustuntie 400\, Korpilahti
 \, Suomi;X-APPLE-RADIUS=100;X-TITLE=Leustun tila:geo:0,0
END:VEVENT
BEGIN:VTIMEZONE
TZID:Europe/Helsinki
X-LIC-LOCATION:Europe/Helsinki
BEGIN:DAYLIGHT
DTSTART:20260329T040000
TZOFFSETFROM:+0200
TZOFFSETTO:+0300
TZNAME:EEST
END:DAYLIGHT
END:VTIMEZONE
END:VCALENDAR