BEGIN:VCALENDAR
VERSION:2.0
PRODID:-//wp-events-plugin.com//7.2.3.1//EN
TZID:Europe/Helsinki
X-WR-TIMEZONE:Europe/Helsinki
BEGIN:VEVENT
UID:142@taivaannaula.org
DTSTART;TZID=Europe/Helsinki:20260523T090000
DTEND;TZID=Europe/Helsinki:20260523T090000
DTSTAMP:20260419T142157Z
URL:https://www.taivaannaula.org/tapahtumakalenteri/talkoot-taivaannaulan-
 torpalla-jasenille-la-23-5-2026/
SUMMARY:Talkoot Taivaannaulan Torpalla (Jäsenille) - La 23.5.2026
DESCRIPTION:Talkoot Taivaannaulan Torpalla\n\nLa 23.5.2026 klo.9-&gt\;\n\nA
 inutlaatuinen tilaisuus päästä Taivaannaulan omistamalle Suoniemen torp
 alle istuttamaan metsää. Tapahtuma on tarkoitettu vain Taivaannaulan jä
 senille ja heidän perheilleen.\n\nTarkoituksenamme on saada potti-putkill
 a istutettua vanhaan pellonpohjaan noin 6000 kuusen tainta. Noin kymmenell
 ä rivakalla ihmisellä työ onnistuu kyllä päivässä. Taivaannaula tar
 joaa työvälineet käyttöön\, ruokailut perjantai-illasta sunnuntai-aam
 uun\, ohjeet ja opastuksen tekemiseen sekä iloista tekemisen meininkiä.\
 n\nTaivaannnaula on vuokrannut noin 9km päästä Särkijärveltä saunall
 isen majoitustilan\, jonne voi saapua jo perjantai-iltana ja olla sunnunta
 ihin asti.\n\nSunnuntaina 24.5. on naapurikunnassa Valkeakoskella\, Sääk
 smäen Ritvalan kylässä iki-aikainen Helkajuhla alkaen klo.14.00\, jonne
  näppärimmät tottakai haluaa myös osallistua. Juhla on omakustanteinen
 . https://wiki.aineetonkulttuuriperinto.fi/wiki/Ritvalan_helkajuhla\n\nPai
 kka: Saunasuontie 417 (Narva) Vesilahti\n\nMajoituspaikan osoite: Punkalai
 tumentie 474\, Vesilahti (Länsi-Vesilahden urheilijat ry\, L-VU ry)\n\nMu
 kaan: Omat petivaatteet\, pyyhkeet yms saunatavarat\, metsähommiin sovelt
 uvat kengät ja muu vaatetus\, vesipullo.\n\nIlmoittaudu mukaan viimeistä
 än su 17.5. mennessä kaisumokkila@gmail.com tai 040-727 8710
LOCATION:Taivaannaulan torppa\, Saunasuontie 417\, Vesilahti\, Suomi
X-APPLE-STRUCTURED-LOCATION;VALUE=URI;X-ADDRESS=Saunasuontie 417\, Vesilaht
 i\, Suomi;X-APPLE-RADIUS=100;X-TITLE=Taivaannaulan torppa:geo:0,0
END:VEVENT
BEGIN:VTIMEZONE
TZID:Europe/Helsinki
X-LIC-LOCATION:Europe/Helsinki
BEGIN:DAYLIGHT
DTSTART:20260329T040000
TZOFFSETFROM:+0200
TZOFFSETTO:+0300
TZNAME:EEST
END:DAYLIGHT
END:VTIMEZONE
END:VCALENDAR