BEGIN:VCALENDAR
VERSION:2.0
PRODID:-//wp-events-plugin.com//7.2.3.1//EN
TZID:Europe/Helsinki
X-WR-TIMEZONE:Europe/Helsinki
BEGIN:VEVENT
UID:50@taivaannaula.org
DTSTART;TZID=Europe/Helsinki:20180525T180000
DTEND;TZID=Europe/Helsinki:20180527T150000
DTSTAMP:20180426T150944Z
URL:https://www.taivaannaula.org/tapahtumakalenteri/toukojuhla-2018/
SUMMARY:Toukojuhla 2018 Tuomarlan tilalla Valkeakoskella
DESCRIPTION:Loppukeväästä ja alkukesästä on kokoonnuttu vanhastaan vie
 ttämään kylvökauden iloisia kyläjuhlia. Taivaannaulan toukojuhlaa vie
 tetään tänä vuonna 25.-27. toukokuuta Tuomarlan tilalla Valkeakoskella
 .\n\nTapahtuma on avoin kaikille Taivaannaulan toiminnasta kiinnostuneille
 . Paikkoja on kuitenkin tarjolla rajoitetusti ja niitä jaettaessa etusija
 lla ovat Taivaannaulan jäsenet ja heidän perheenjäsenensä.\n\nIlmoitta
 udu mukaan! Ilmoittautuminen alkaa suvipäivänä 14.4. ja päättyy 15.5.
  tai kun juhla on täynnä.\n\nTaivaannaulan tapahtumiin järjestetään k
 imppakyytejä. Voit mainita ilmoittautuessasi\, jos tarvitset kyydin paika
 n päälle.\n\n[caption id="attachment_8753" align="aligncenter" width="46
 08"] Kuva: Mirka A.[/caption]\n\nIkkuna juurille ja perinteiseen vuodenkie
 rtoon\n\nTaivaannaulan juhlat avaavat ihmisille ikkunan heidän omille juu
 rilleen ja luonnon vuodenkiertoa seurailevaan perinteiseen elämäntapaan.
  Kevätkauden juhlien tavoilla on perinteisesti varmistettu hyvä onni tul
 evalle kesälle ja satokaudelle. \n\nTuomarlan tila on Sääksmäen emäpi
 täjän vanhimpia maatiloja. Tuomarla sijaitsee Valkeakoskella Kärjenniem
 en kylässä arvokkaassa kulttuurimaisemassa. Tilan erityispiirre on perin
 nebiotoopit eli vanhat katajakedot\, niityt ja hakamaat\, jotka on luokite
 ltu maakunnallisesti arvokkaiksi. Perinnebiotoopit edustavat Suomen uhanal
 aisimpia luontotyyppejä\n\n[caption id="attachment_8268" align="aligncent
 er" width="4608"] Kuva: Mirka A.[/caption]\n\nPerinteiset työt\, saunomin
 en ja vanhat tavat\n\nToukojuhlan ohjelmaan kuuluu muun muassa erätaitoko
 ulutusta\, tukkilaisperinteitä sekä keskusteluja henkisistä perinteist
 ä ja maanläheisestä elämäntavasta. Juhlassa puhdistaudutaan saunassa 
 ja nautitaan maittava juhlapäivällinen. \n\n[caption id="attachment_8958
 " align="aligncenter" width="1733"] Kuva: Hanna Poropudas & Markus Iivonen
 [/caption]\n\nOsallistuminen\n\nVoit ilmoittautua mukaan tästä linkistä
 .\n\nToukojuhla alkaa perjantaina alkuillasta ja päättyy sunnuntaina ilt
 apäivällä. Tapahtuma on kaikille avoin\, mutta paikkoja on rajoitetusti
  ja niitä jaettaessa etusijalla ovat Taivaannaulan jäsenet ja heidän pe
 rheenjäsenensä.\n\nToukojuhlaan voi tehdä myös lauantaina päiväviera
 ilun. Päivävierailun osallistumismaksut ovat samat kuin koko juhlan.\n\n
 Majoittuminen tapahtuu ulkona omissa teltoissa. Huonon sään sattuessa vo
 imme majoittua navetan ylisille tai muihin sisätiloihin. Lapsille tai hä
 tätilassa muillekin järjestyy sisämajoitus.\nPaikalla ei ole mitään n
 ukkumisvarusteita (peittoja\, tyynyjä\, tms.) vaan kaikki tuodaan itse.\n
 \nTapahtumaan järjestetään kimppakuljetuksia\, joista tiedotetaan tarke
 mmin ennen tapahtumaa.\n \n[caption id="attachment_8941" align="aligncente
 r" width="4000"] Ämmät äänessä -yhtye toukojuhlassa 2016. Kuva: Maija
  L.[/caption]\n\nOsallistumismaksut\n\nJäsenille 25 €\, ei-jäsenille 4
 0 €\, alle 15-vuotiaat 15 €\, alle kouluikäiset 10 €. Päiväkävij
 öille samat hinnat.\n\nJuhlan osallistumismaksu sisältää erätaitokurs
 sin\, ohjelmaa\, lauantain lounaan ja päivällisen sekä tarvittaessa maj
 oituksen.\n\n[caption id="attachment_8951" align="aligncenter" width="2600
 "] Kuva: Hanna Poropudas & Markus Iivonen[/caption]\n\nKysyttävää?\n\nV
 oit lähettää juhlaan liittyviä kysymyksiä kommenttina tähän uutisee
 n tai lähettämällä sähköpostia osoitteeseen touko2018@taivaannaula.o
 rg.\n\nTapahtuma Facebookissa\n\nToukojuhla löytyy myös Facebookista. Ju
 hlaa koskevat kysymykset sekä tiedustelut kannattaa kuitenkin laittaa aik
 aisemmin mainitulla tavalla\, ei Facebookin kautta! \n\nTervetuloa! Tuomar
 lassa nähdään!
ATTACH;FMTTYPE=image/jpeg:https://www.taivaannaula.org/Testi2015/wp-conten
 t/uploads/2017/05/toukojuhla2017-mervi-1-kasitelty-pieni150ppi1200px.jpg
CATEGORIES:Vuotuisjuhlat
END:VEVENT
BEGIN:VTIMEZONE
TZID:Europe/Helsinki
X-LIC-LOCATION:Europe/Helsinki
BEGIN:DAYLIGHT
DTSTART:20180325T040000
TZOFFSETFROM:+0200
TZOFFSETTO:+0300
TZNAME:EEST
END:DAYLIGHT
END:VTIMEZONE
END:VCALENDAR