BEGIN:VCALENDAR
VERSION:2.0
PRODID:-//wp-events-plugin.com//7.2.3.1//EN
TZID:Europe/Helsinki
X-WR-TIMEZONE:Europe/Helsinki
BEGIN:VEVENT
UID:12@taivaannaula.org
DTSTART;TZID=Europe/Helsinki:20160520T180000
DTEND;TZID=Europe/Helsinki:20160522T150000
DTSTAMP:20160425T045245Z
URL:https://www.taivaannaula.org/tapahtumakalenteri/toukojuhla-korteniemen
 -perinnetilalla-20-22-5-2016/
SUMMARY:Toukojuhla Korteniemen perinnetilalla 20.-22.5.2016
DESCRIPTION:Taivaannaulan toukojuhlaa vietetään tänä vuonna 20.-22. tou
 kokuuta Korteniemen perinnetilalla Tammelassa.
ATTACH;FMTTYPE=image/jpeg:https://www.taivaannaula.org/Testi2015/wp-conten
 t/uploads/2016/03/toukojuhla2016-1.jpg
CATEGORIES:Vuotuisjuhlat
END:VEVENT
BEGIN:VTIMEZONE
TZID:Europe/Helsinki
X-LIC-LOCATION:Europe/Helsinki
BEGIN:DAYLIGHT
DTSTART:20160327T040000
TZOFFSETFROM:+0200
TZOFFSETTO:+0300
TZNAME:EEST
END:DAYLIGHT
END:VTIMEZONE
END:VCALENDAR