BEGIN:VCALENDAR
VERSION:2.0
PRODID:-//wp-events-plugin.com//7.2.3.1//EN
TZID:Europe/Helsinki
X-WR-TIMEZONE:Europe/Helsinki
BEGIN:VEVENT
UID:45@taivaannaula.org
DTSTART;TZID=Europe/Helsinki:20180223T170000
DTEND;TZID=Europe/Helsinki:20180223T190000
DTSTAMP:20180216T153342Z
URL:https://www.taivaannaula.org/tapahtumakalenteri/vanhan-kansan-viisautt
 a-puusta-rakennusaineena/
SUMMARY:Vanhan kansan viisautta puusta rakennusaineena
DESCRIPTION:Aika: perjantai 23.2. kello 17-19\n\nTaivaannaulan ja Rakennusk
 ulttuurikeskus Piirun yhteistilaisuus. Evästäjänä Mikko Tappura\, Mets
 ä-Tappura Oy:n toimitusjohtaja ja Taivaannaulan Pirkanmaan paikallisvasta
 ava. \n\nVapaa pääsy\, korkeintaan 30 henkeä\, pikkurahalla kahvia/teet
 ä ja nisua.\n\nAi\, että on ihan sama mistä rakennushirret kaadetaan ja
  mihin vuodenaikaan? Ei todellakaan. Ja että mitä puuta mihinkin tarkoit
 ukseen? Ja mitä ihmettä tarkoittaa ”akka alla\, ukko päällä ja väh
 än villoja välissä”? Tule kuuntelemaan tarinaa puusta. Vanha kansa se
 n jo tiesi:\n\nSalvannut salosta seinät\, hirret hirmulta mäeltä\,\nruo
 tehet romeikolta\, malat marjakankahalta\,\ntuohet tuomivaaran päältä\,
  sammalet sulilta soilta\n\nTapahtuma Facebookissa
ATTACH;FMTTYPE=image/jpeg:https://www.taivaannaula.org/Testi2015/wp-conten
 t/uploads/2015/08/hirsirakennus-1024x6831.jpg
CATEGORIES:Luento,Paikallistapahtuma,Yleisötapahtumat
END:VEVENT
BEGIN:VTIMEZONE
TZID:Europe/Helsinki
X-LIC-LOCATION:Europe/Helsinki
BEGIN:STANDARD
DTSTART:20171029T030000
TZOFFSETFROM:+0300
TZOFFSETTO:+0200
TZNAME:EET
END:STANDARD
END:VTIMEZONE
END:VCALENDAR